BEGIN:VCALENDAR
VERSION:2.0
PRODID:DPCALENDAR
CALSCALE:GREGORIAN
BEGIN:VTIMEZONE
TZID:Europe/Stockholm
BEGIN:STANDARD
DTSTART:20251026T010000
TZOFFSETFROM:+0200
TZOFFSETTO:+0100
TZNAME:CET
END:STANDARD
BEGIN:STANDARD
DTSTART:20261025T010000
TZOFFSETFROM:+0200
TZOFFSETTO:+0100
TZNAME:CET
END:STANDARD
BEGIN:DAYLIGHT
DTSTART:20260329T010000
TZOFFSETFROM:+0100
TZOFFSETTO:+0200
TZNAME:CEST
END:DAYLIGHT
END:VTIMEZONE
X-WR-TIMEZONE:Europe/Stockholm
BEGIN:VEVENT
DTSTART;TZID=Europe/Stockholm:20241012T140000
DTEND;TZID=Europe/Stockholm:20241013T140000
UID:142EF178-BB59-4718-8E01-D111232753B8
SUMMARY:SAC – Scandinavian Activity Contest
CREATED:20241008T092111Z
DTSTAMP:20241008T092111Z
URL:https://www.sactest.net/blog/
DESCRIPTION:Vi tänker köra SAC testen i helgen. Start lördag kl.14.00 (svensk tid) fram till ca kl.18-19 tiden.Sedan kör vi söndag kl.10.00 till kl.13-14.00 tiden \NPlats: Klubblokalen
X-ALT-DESC;FMTTYPE=text/html:<p><span style="font-size: 12pt;">Vi tänker köra SAC testen i helgen. Start lördag kl.14.00 (svensk tid) fram till ca kl.18-19 tiden.</span><br /><span style="font-size: 12pt;">Sedan kör vi söndag kl.10.00 till kl.13-14.00 tiden </span></p><p><strong><span style="font-size: 12pt;">Plats:&nbsp;</span></strong><span style="font-size: 12pt;">Klubblokalen</span></p>
LAST-MODIFIED:20241008T092235Z
SEQUENCE:84
LOCATION:Fäladsgatan 6B\, 291 62 Kristianstad\, Skåne County\, Sverige
GEO:56.02349900;14.14531100
X-LOCATION-DISPLAYNAME:Fäladsgatan
X-ACCESS:1
X-HITS:349
X-COLOR:ed1f1f
X-SHOW-END-TIME:1
END:VEVENT
END:VCALENDAR