BEGIN:VCALENDAR
VERSION:2.0
PRODID:DPCALENDAR
CALSCALE:GREGORIAN
BEGIN:VTIMEZONE
TZID:Europe/Stockholm
BEGIN:STANDARD
DTSTART:20251026T010000
TZOFFSETFROM:+0200
TZOFFSETTO:+0100
TZNAME:CET
END:STANDARD
BEGIN:STANDARD
DTSTART:20261025T010000
TZOFFSETFROM:+0200
TZOFFSETTO:+0100
TZNAME:CET
END:STANDARD
BEGIN:DAYLIGHT
DTSTART:20260329T010000
TZOFFSETFROM:+0100
TZOFFSETTO:+0200
TZNAME:CEST
END:DAYLIGHT
END:VTIMEZONE
X-WR-TIMEZONE:Europe/Stockholm
BEGIN:VEVENT
DTSTART;TZID=Europe/Stockholm:20241218T190000
DTEND;TZID=Europe/Stockholm:20241218T210000
UID:34991DD4-17ED-4515-9CEA-4201CCAA4F2C
SUMMARY:Medlemsmöte och julbord i klubblokalen
CREATED:20241118T071402Z
DTSTAMP:20241118T071402Z
URL:https://www.sk7bq.se/index.php/kalender-2/medlemsmoete-ochjulbord-i-klubblokalen
DESCRIPTION:Medlemsmöte och julbord i klubblokalen
X-ALT-DESC;FMTTYPE=text/html:<p>Medlemsmöte och julbord i klubblokalen</p>
LAST-MODIFIED:20241118T071447Z
SEQUENCE:45
X-ACCESS:1
X-HITS:360
X-COLOR:f71e5f
X-SHOW-END-TIME:1
END:VEVENT
END:VCALENDAR