BEGIN:VCALENDAR
VERSION:2.0
PRODID:DPCALENDAR
CALSCALE:GREGORIAN
BEGIN:VTIMEZONE
TZID:Europe/Stockholm
BEGIN:STANDARD
DTSTART:20251026T010000
TZOFFSETFROM:+0200
TZOFFSETTO:+0100
TZNAME:CET
END:STANDARD
BEGIN:STANDARD
DTSTART:20261025T010000
TZOFFSETFROM:+0200
TZOFFSETTO:+0100
TZNAME:CET
END:STANDARD
BEGIN:DAYLIGHT
DTSTART:20260329T010000
TZOFFSETFROM:+0100
TZOFFSETTO:+0200
TZNAME:CEST
END:DAYLIGHT
END:VTIMEZONE
X-WR-TIMEZONE:Europe/Stockholm
BEGIN:VEVENT
DTSTART;TZID=Europe/Stockholm:20240902T190000
DTEND;TZID=Europe/Stockholm:20240902T200000
UID:BE3A6BE9-BC2A-4E21-A794-DCB2DCC42437
SUMMARY:Styrelsemöte
CREATED:20240810T063938Z
DTSTAMP:20240810T063938Z
URL:https://www.sk7bq.se/index.php/kalender-2/styrelsemoete-2
DESCRIPTION:Plats: Internet
X-ALT-DESC;FMTTYPE=text/html:<p><span style="font-size: 12pt;"><strong>Plats:&nbsp;</strong>Internet</span></p>
LAST-MODIFIED:20240812T060636Z
SEQUENCE:170818
X-ACCESS:1
X-HITS:395
X-COLOR:e0f70d
X-SHOW-END-TIME:1
END:VEVENT
BEGIN:VEVENT
DTSTART;TZID=Europe/Stockholm:20241007T190000
DTEND;TZID=Europe/Stockholm:20241007T200000
UID:1F3F918C-F07A-48CA-A744-640200B9A210
SUMMARY:Styrelsemöte
CREATED:20240810T063938Z
DTSTAMP:20240810T063938Z
URL:https://www.sk7bq.se/index.php/kalender-2/styrelsemoete-3
DESCRIPTION:
X-ALT-DESC;FMTTYPE=text/html:<p><span style="font-size: 12pt;"></span></p>
LAST-MODIFIED:20240903T052144Z
SEQUENCE:2068926
X-ACCESS:1
X-HITS:376
X-COLOR:e0f70d
X-SHOW-END-TIME:1
END:VEVENT
BEGIN:VEVENT
DTSTART;TZID=Europe/Stockholm:20241104T190000
DTEND;TZID=Europe/Stockholm:20241104T200000
UID:31F60C0C-3453-4E07-A945-B180729F335B
SUMMARY:Styrelsemöte
CREATED:20240810T063938Z
DTSTAMP:20240810T063938Z
URL:https://www.sk7bq.se/index.php/kalender-2/styrelsemoete-4
DESCRIPTION:
X-ALT-DESC;FMTTYPE=text/html:<p><span style="font-size: 12pt;"></span></p>
LAST-MODIFIED:20240903T052158Z
SEQUENCE:2068940
X-ACCESS:1
X-HITS:475
X-COLOR:e0f70d
X-SHOW-END-TIME:1
END:VEVENT
BEGIN:VEVENT
DTSTART;TZID=Europe/Stockholm:20241202T190000
DTEND;TZID=Europe/Stockholm:20241202T200000
UID:69ABDC98-4CB8-4F60-8E59-8ED4DDF93355
SUMMARY:Styrelsemöte
CREATED:20240810T063938Z
DTSTAMP:20240810T063938Z
URL:https://www.sk7bq.se/index.php/kalender-2/styrelsemoete-5
DESCRIPTION:
X-ALT-DESC;FMTTYPE=text/html:<p><span style="font-size: 12pt;"></span></p>
LAST-MODIFIED:20240903T052210Z
SEQUENCE:2068952
X-ACCESS:1
X-HITS:226
X-COLOR:e0f70d
X-SHOW-END-TIME:1
END:VEVENT
BEGIN:VEVENT
DTSTART;TZID=Europe/Stockholm:20250106T190000
DTEND;TZID=Europe/Stockholm:20250106T200000
UID:632C2A4F-290D-432F-A823-88B3762C3EE3
SUMMARY:Styrelsemöte
CREATED:20250105T164917Z
DTSTAMP:20250105T164917Z
URL:https://www.sk7bq.se/index.php/kalender-2/styrelsemoete-6
DESCRIPTION:Enligt dagordningen
X-ALT-DESC;FMTTYPE=text/html:<p><span style="font-size: 12pt;">Enligt dagordningen</span></p>
LAST-MODIFIED:20250106T091659Z
SEQUENCE:59262
X-ACCESS:1
X-HITS:345
X-COLOR:f2fa08
X-SHOW-END-TIME:1
END:VEVENT
BEGIN:VEVENT
DTSTART;TZID=Europe/Stockholm:20250203T190000
DTEND;TZID=Europe/Stockholm:20250203T200000
UID:9C375FA0-0C3E-4AE0-AAA9-F19F44CCAE96
SUMMARY:Styrelsemöte
CREATED:20250106T185017Z
DTSTAMP:20250106T185017Z
URL:https://www.sk7bq.se/index.php/kalender-2/styrelsemoete-7
LAST-MODIFIED:20250106T185017Z
SEQUENCE:0
X-ACCESS:1
X-HITS:300
X-COLOR:f2fa08
X-SHOW-END-TIME:1
END:VEVENT
BEGIN:VEVENT
DTSTART;TZID=Europe/Stockholm:20250303T190000
DTEND;TZID=Europe/Stockholm:20250303T203000
UID:D9AE5ECB-F337-4962-BF9D-4C88A0C30773
SUMMARY:Styrelsemöte
CREATED:20250207T094138Z
DTSTAMP:20250207T094138Z
URL:https://www.sk7bq.se/index.php/kalender-2/styrelsemoete-8
LAST-MODIFIED:20250207T094642Z
SEQUENCE:304
X-ACCESS:1
X-HITS:336
X-COLOR:f2fa08
X-SHOW-END-TIME:1
END:VEVENT
BEGIN:VEVENT
DTSTART;TZID=Europe/Stockholm:20250407T190000
DTEND;TZID=Europe/Stockholm:20250407T200000
UID:669B9D61-DF7B-47CF-9D1C-CE459441CC91
SUMMARY:Styrelsemöte
CREATED:20250320T094259Z
DTSTAMP:20250320T094259Z
URL:https://www.sk7bq.se/index.php/kalender-2/styrelsemoete-9
DESCRIPTION:Styrelsemöte enligt kallelse \NOBS! Vi träffas i KLUBBLOKALEN!
X-ALT-DESC;FMTTYPE=text/html:<p><span style="font-size: 14pt;">Styrelsemöte enligt kallelse <br /></span></p><p><span style="font-size: 14pt;">OBS! Vi träffas i <strong>KLUBBLOKALEN</strong>!</span></p>
LAST-MODIFIED:20250325T010724Z
SEQUENCE:401065
X-ACCESS:1
X-HITS:317
X-COLOR:f2fa08
X-SHOW-END-TIME:1
END:VEVENT
BEGIN:VEVENT
DTSTART;TZID=Europe/Stockholm:20260302T190000
DTEND;TZID=Europe/Stockholm:20260302T203000
UID:F68934ED-8F2B-4F38-91A3-EF9D6ACE1E25
SUMMARY:Styrelsemöte
CREATED:20260301T093646Z
DTSTAMP:20260301T093646Z
URL:https://www.sk7bq.se/index.php/kalender-2/styrelsemoete-10
LAST-MODIFIED:20260301T093646Z
SEQUENCE:0
X-ACCESS:1
X-HITS:120
X-COLOR:f2fa08
X-SHOW-END-TIME:1
END:VEVENT
BEGIN:VEVENT
DTSTART;TZID=Europe/Stockholm:20260406T190000
DTEND;TZID=Europe/Stockholm:20260406T203000
UID:E111D76D-2562-4BD9-B4CB-31D2676126DD
SUMMARY:Styrelsemöte
CREATED:20260323T185327Z
DTSTAMP:20260323T185327Z
URL:https://www.sk7bq.se/index.php/kalender-2/styrelsemoete-11
LAST-MODIFIED:20260323T185327Z
SEQUENCE:0
X-ACCESS:1
X-HITS:148
X-COLOR:f2fa08
X-SHOW-END-TIME:1
END:VEVENT
BEGIN:VEVENT
DTSTART;TZID=Europe/Stockholm:20260504T190000
DTEND;TZID=Europe/Stockholm:20260504T210000
UID:6EFA4703-89BF-4E68-83A4-6C2DBD33DD73
SUMMARY:Styrelsemöte
CREATED:20260406T173515Z
DTSTAMP:20260406T173515Z
URL:https://www.sk7bq.se/index.php/kalender-2/styrelsemoete-12
LAST-MODIFIED:20260406T173515Z
SEQUENCE:0
X-ACCESS:1
X-HITS:108
X-COLOR:f2fa08
X-SHOW-END-TIME:1
END:VEVENT
END:VCALENDAR