BEGIN:VCALENDAR
VERSION:2.0
PRODID:DPCALENDAR
CALSCALE:GREGORIAN
BEGIN:VTIMEZONE
TZID:Europe/Stockholm
BEGIN:STANDARD
DTSTART:20251026T010000
TZOFFSETFROM:+0200
TZOFFSETTO:+0100
TZNAME:CET
END:STANDARD
BEGIN:STANDARD
DTSTART:20261025T010000
TZOFFSETFROM:+0200
TZOFFSETTO:+0100
TZNAME:CET
END:STANDARD
BEGIN:DAYLIGHT
DTSTART:20260329T010000
TZOFFSETFROM:+0100
TZOFFSETTO:+0200
TZNAME:CEST
END:DAYLIGHT
END:VTIMEZONE
X-WR-TIMEZONE:Europe/Stockholm
BEGIN:VEVENT
DTSTART;TZID=Europe/Stockholm:20240903T183000
DTEND;TZID=Europe/Stockholm:20240903T223000
UID:380A8B39-CE4A-4E10-B679-34E7E62028E4
SUMMARY:NAC VHF
CREATED:20240810T063717Z
DTSTAMP:20240810T063717Z
URL:https://www.sk7bq.se/index.php/kalender-2/nac-vhf
DESCRIPTION:Plats: Klubbokalen\NBra info om NAC-VHF
X-ALT-DESC;FMTTYPE=text/html:<p><span style="font-size: 12pt;"><strong>Plats:</strong> Klubbokalen</span></p><p><a href="https://contest.ssa.se/?document=RULES-NAC" target="_blank" rel="noopener"><span style="font-size: 12pt;">Bra info om NAC-VHF</span></a></p>
LAST-MODIFIED:20240903T051853Z
SEQUENCE:2068896
LOCATION:Fäladsgatan 6B\, 291 62 Kristianstad\, Skåne County\, Sverige
GEO:56.02349900;14.14531100
X-LOCATION-DISPLAYNAME:Fäladsgatan
X-ACCESS:1
X-HITS:350
X-COLOR:9548d4
X-SHOW-END-TIME:1
END:VEVENT
BEGIN:VEVENT
DTSTART;TZID=Europe/Stockholm:20241001T183000
DTEND;TZID=Europe/Stockholm:20241001T223000
UID:0DA1FBDC-C514-4100-AE89-1A30945A86C4
SUMMARY:NAC VHF
CREATED:20240810T063717Z
DTSTAMP:20240810T063717Z
URL:https://www.sk7bq.se/index.php/kalender-2/nac-vhf-2
DESCRIPTION:Plats: Klubbokalen\NBra info om NAC-VHF
X-ALT-DESC;FMTTYPE=text/html:<p><span style="font-size: 12pt;"><strong>Plats:</strong> Klubbokalen</span></p><p><a href="https://contest.ssa.se/?document=RULES-NAC" target="_blank" rel="noopener"><span style="font-size: 12pt;">Bra info om NAC-VHF</span></a></p>
LAST-MODIFIED:20240903T051948Z
SEQUENCE:2068951
LOCATION:Fäladsgatan 6B\, 291 62 Kristianstad\, Skåne County\, Sverige
GEO:56.02349900;14.14531100
X-LOCATION-DISPLAYNAME:Fäladsgatan
X-ACCESS:1
X-HITS:512
X-COLOR:9548d4
X-SHOW-END-TIME:1
END:VEVENT
BEGIN:VEVENT
DTSTART;TZID=Europe/Stockholm:20241105T183000
DTEND;TZID=Europe/Stockholm:20241105T223000
UID:78A7E20E-1C5F-43DC-B3F2-635D9DB0F246
SUMMARY:NAC VHF
CREATED:20240810T063717Z
DTSTAMP:20240810T063717Z
URL:https://www.sk7bq.se/index.php/kalender-2/nac-vhf-3
DESCRIPTION:Plats: Klubbokalen\NBra info om NAC-VHF
X-ALT-DESC;FMTTYPE=text/html:<p><span style="font-size: 12pt;"><strong>Plats:</strong> Klubbokalen</span></p><p><a href="https://contest.ssa.se/?document=RULES-NAC" target="_blank" rel="noopener"><span style="font-size: 12pt;">Bra info om NAC-VHF</span></a></p>
LAST-MODIFIED:20240903T052034Z
SEQUENCE:2068997
LOCATION:Fäladsgatan 6B\, 291 62 Kristianstad\, Skåne County\, Sverige
GEO:56.02349900;14.14531100
X-LOCATION-DISPLAYNAME:Fäladsgatan
X-ACCESS:1
X-HITS:536
X-COLOR:9548d4
X-SHOW-END-TIME:1
END:VEVENT
BEGIN:VEVENT
DTSTART;TZID=Europe/Stockholm:20241203T183000
DTEND;TZID=Europe/Stockholm:20241203T223000
UID:9AEB9A01-C877-4D0D-984B-3D5235EAACFE
SUMMARY:NAC VHF
CREATED:20240810T063717Z
DTSTAMP:20240810T063717Z
URL:https://www.sk7bq.se/index.php/kalender-2/nac-vhf-4
DESCRIPTION:Plats: Klubbokalen\NBra info om NAC-VHF
X-ALT-DESC;FMTTYPE=text/html:<p><span style="font-size: 12pt;"><strong>Plats:</strong> Klubbokalen</span></p><p><a href="https://contest.ssa.se/?document=RULES-NAC" target="_blank" rel="noopener"><span style="font-size: 12pt;">Bra info om NAC-VHF</span></a></p>
LAST-MODIFIED:20240903T052048Z
SEQUENCE:2069011
LOCATION:Fäladsgatan 6B\, 291 62 Kristianstad\, Skåne County\, Sverige
GEO:56.02349900;14.14531100
X-LOCATION-DISPLAYNAME:Fäladsgatan
X-ACCESS:1
X-HITS:456
X-COLOR:9548d4
X-SHOW-END-TIME:1
END:VEVENT
END:VCALENDAR